BEGIN:VCALENDAR
VERSION:2.0
PRODID:-//Agana Shopping Center - ECPv4.9.5//NONSGML v1.0//EN
CALSCALE:GREGORIAN
METHOD:PUBLISH
X-WR-CALNAME:Agana Shopping Center
X-ORIGINAL-URL:https://aganacenter.com
X-WR-CALDESC:Events for Agana Shopping Center
BEGIN:VTIMEZONE
TZID:"Pacific/Guam"
BEGIN:STANDARD
TZOFFSETFROM:+1000
TZOFFSETTO:+1000
TZNAME:ChST
DTSTART:20190101T000000
END:STANDARD
END:VTIMEZONE
BEGIN:VEVENT
DTSTART;TZID="Pacific/Guam":20190921T110000
DTEND;TZID="Pacific/Guam":20190921T150000
DTSTAMP:20260423T082505
CREATED:20190911T000612Z
LAST-MODIFIED:20190911T005306Z
UID:2744-1569063600-1569078000@aganacenter.com
SUMMARY:Kids Fun Fair
DESCRIPTION:
URL:https://aganacenter.com/event/kids-fun-fair
ATTACH;FMTTYPE=image/jpeg:https://aganacenter.com/wp-content/uploads/2019/09/Kids-Fun-Fair.jpeg
END:VEVENT
END:VCALENDAR