BEGIN:VCALENDAR
VERSION:2.0
PRODID:-//Agana Shopping Center - ECPv4.9.5//NONSGML v1.0//EN
CALSCALE:GREGORIAN
METHOD:PUBLISH
X-WR-CALNAME:Agana Shopping Center
X-ORIGINAL-URL:https://aganacenter.com
X-WR-CALDESC:Events for Agana Shopping Center
BEGIN:VTIMEZONE
TZID:"Pacific/Guam"
BEGIN:STANDARD
TZOFFSETFROM:+1000
TZOFFSETTO:+1000
TZNAME:ChST
DTSTART:20240101T000000
END:STANDARD
END:VTIMEZONE
BEGIN:VEVENT
DTSTART;TZID="Pacific/Guam":20240907T120000
DTEND;TZID="Pacific/Guam":20240907T160000
DTSTAMP:20260419T150529
CREATED:20240904T140051Z
LAST-MODIFIED:20240905T014539Z
UID:3850-1725710400-1725724800@aganacenter.com
SUMMARY:Family Fun Day
DESCRIPTION:Join us this Saturday\, September 7th for Family Fun Day! 🎉 Swing by from 12PM – 4PM for a day packed with excitement with a bouncy house\, face painting\, henna tattoos\, and balloon twisting! 🎈🎨✨ Shop with our local vendors from 10AM – 6PM 🛍️ Enjoy live music by Three’s A Crowd! 🎶 Don’t miss out on the fun! \n
URL:https://aganacenter.com/event/family-fun-day
ATTACH;FMTTYPE=image/png:https://aganacenter.com/wp-content/uploads/2024/09/Family-Fun-Day-090724-.png
END:VEVENT
END:VCALENDAR