BEGIN:VCALENDAR
VERSION:2.0
PRODID:-//Agana Shopping Center - ECPv4.9.5//NONSGML v1.0//EN
CALSCALE:GREGORIAN
METHOD:PUBLISH
X-WR-CALNAME:Agana Shopping Center
X-ORIGINAL-URL:https://aganacenter.com
X-WR-CALDESC:Events for Agana Shopping Center
BEGIN:VTIMEZONE
TZID:"Pacific/Guam"
BEGIN:STANDARD
TZOFFSETFROM:+1000
TZOFFSETTO:+1000
TZNAME:ChST
DTSTART:20240101T000000
END:STANDARD
END:VTIMEZONE
BEGIN:VEVENT
DTSTART;TZID="Pacific/Guam":20240928T120000
DTEND;TZID="Pacific/Guam":20240928T160000
DTSTAMP:20260423T082933
CREATED:20240924T013634Z
LAST-MODIFIED:20240924T033851Z
UID:3865-1727524800-1727539200@aganacenter.com
SUMMARY:Family Fun Day
DESCRIPTION:Mark your calendars for Family Fun Day on Saturday\, September 28th! 🎉 Stop by from 12PM – 4PM for a fun day filled with activities! 🎈🎨 Check out our vendor pop-ups from 10AM – 6PM 🛍️ \n
URL:https://aganacenter.com/event/family-fun-day-2
ATTACH;FMTTYPE=image/png:https://aganacenter.com/wp-content/uploads/2024/09/Family-Fun-Day-9-28-24-1.png
END:VEVENT
END:VCALENDAR