BEGIN:VCALENDAR
VERSION:2.0
PRODID:-//Agana Shopping Center - ECPv4.9.5//NONSGML v1.0//EN
CALSCALE:GREGORIAN
METHOD:PUBLISH
X-WR-CALNAME:Agana Shopping Center
X-ORIGINAL-URL:https://aganacenter.com
X-WR-CALDESC:Events for Agana Shopping Center
BEGIN:VTIMEZONE
TZID:"Pacific/Guam"
BEGIN:STANDARD
TZOFFSETFROM:+1000
TZOFFSETTO:+1000
TZNAME:ChST
DTSTART:20190101T000000
END:STANDARD
END:VTIMEZONE
BEGIN:VEVENT
DTSTART;TZID="Pacific/Guam":20190713T100000
DTEND;TZID="Pacific/Guam":20190713T170000
DTSTAMP:20260419T220031
CREATED:20190515T005113Z
LAST-MODIFIED:20190515T223301Z
UID:2557-1563012000-1563037200@aganacenter.com
SUMMARY:Epixcon 2019
DESCRIPTION:Vendor/Exhibitor/Artist Application Forms:\nArtist Form Exhibitor Form  Vendor Form \nIf you are interested\, submit the forms via email at hafa.adai@aganacenter.com. \n
URL:https://aganacenter.com/event/epixcon-2019
ATTACH;FMTTYPE=image/jpeg:https://aganacenter.com/wp-content/uploads/2019/05/epixcon-date-2019.jpg
END:VEVENT
END:VCALENDAR