BEGIN:VCALENDAR
VERSION:2.0
PRODID:-//Agana Shopping Center - ECPv4.9.5//NONSGML v1.0//EN
CALSCALE:GREGORIAN
METHOD:PUBLISH
X-WR-CALNAME:Agana Shopping Center
X-ORIGINAL-URL:https://aganacenter.com
X-WR-CALDESC:Events for Agana Shopping Center
BEGIN:VTIMEZONE
TZID:"Pacific/Guam"
BEGIN:STANDARD
TZOFFSETFROM:+1000
TZOFFSETTO:+1000
TZNAME:ChST
DTSTART:20190101T000000
END:STANDARD
END:VTIMEZONE
BEGIN:VEVENT
DTSTART;VALUE=DATE:20190812
DTEND;VALUE=DATE:20190901
DTSTAMP:20260419T163617
CREATED:20190812T003335Z
LAST-MODIFIED:20190812T003411Z
UID:2667-1565568000-1567295999@aganacenter.com
SUMMARY:Back-to-School Season Sales
DESCRIPTION:\n\n\n\n	StorePromotion\n\n\n\n\n	Chatime- Buy One\, Get One FREE on any drinks!\n*must be of equal or lesser value. Only valid from Monday – Thursday from 12pm – 6pm. Must show Facebook Post.\n\n\n	ExpressCare- $95 School physicals\n\n\n	Port of Mocha- $2.99 for a Tall Hot/Iced Black Coffee & Pastry (creamer and sugar on the side)\n- 2 for $4 any Tall Espresso-based drinks (hot or iced. Valid from Monday to Friday from 2pm – 4pm\n\n\n	Pretzelmaker- 50% off on soft drinks and lemonade (regular and large sizes only. Valid from 2pm – 5pm every Monday – Thursday in August)\n\n\n	SM island- It's Kid's Fair at the SM Island Store from August 12-18. Enjoy up to 20% off on kids' apparel\, accessories\, shoes and underwear and 10% off on all Miniso school items. Enjoy buy 1 and get 1 offers and items at just $1!  Bring the kids on August 17 Saturday at 2pm for our balloon twisting event. And at 2pm on August 18 Sunday\, first 100 customers get a free Magnum Double Chocolate Bar!\n\n\n	Yogurtland- Buy One Cup\, Get One FREE!\n*must be of equal or lesser value. Only valid from Monday – Thursday from 12pm – 6pm. Must show Facebook Post.\n\n\n\n\n
URL:https://aganacenter.com/event/back-to-school
END:VEVENT
END:VCALENDAR