BEGIN:VCALENDAR
VERSION:2.0
PRODID:-//Agana Shopping Center - ECPv4.9.5//NONSGML v1.0//EN
CALSCALE:GREGORIAN
METHOD:PUBLISH
X-WR-CALNAME:Agana Shopping Center
X-ORIGINAL-URL:https://aganacenter.com
X-WR-CALDESC:Events for Agana Shopping Center
BEGIN:VTIMEZONE
TZID:"Pacific/Guam"
BEGIN:STANDARD
TZOFFSETFROM:+1000
TZOFFSETTO:+1000
TZNAME:ChST
DTSTART:20190101T000000
END:STANDARD
END:VTIMEZONE
BEGIN:VEVENT
DTSTART;VALUE=DATE:20190704
DTEND;VALUE=DATE:20190705
DTSTAMP:20260420T012237
CREATED:20190703T070451Z
LAST-MODIFIED:20190703T070451Z
UID:2594-1562198400-1562284799@aganacenter.com
SUMMARY:4th of July Sale
DESCRIPTION:\n\n\n\n	STOREPROMOTIONS\n\n\n\n\n	Agana Center Stadium Theatres- $12 Liberation Day Filler Up Cup of Popcorn and Drink and a Capriciossa personal pizza. Cups may be refilled for only $5. \n*Offer good between July 4 to July 7\n\n\n	Cinnabon- $5 off any 15-pack Minibons\n\n\n	Esprit- 20% - 60% off storewide\n\n\n	IT&E- Get up to 30% off select iPhones when you sign up for Unlimited 4G LTE data on the Freedom Plan\n\n\n	Pizza Hut- $17.99 Cheesy Bites Pizza\, 1 topping\n\n\n	Playport- $19. 44 Beverage Card ($25 regular priced)\n*card is valid for FIVE orders of 16-20oz beverages. This sale price makes each drink only $3.89 (up to 35% savings per drink).  \n\n\n	SM island- 20% off storewide on all regular priced items (except Miniso\, snacks\, and home furniture)\n- 10% off on Miniso\, snacks\, and home furniture\n\n\n	Taco Bell- $1.99 Nacho Fries\n\n\n\n\n
URL:https://aganacenter.com/event/4th-july-sale
CATEGORIES:Promotion
ATTACH;FMTTYPE=image/jpeg:https://aganacenter.com/wp-content/uploads/2019/07/Independence-Day-Sale-REVISED-v2.jpg
END:VEVENT
END:VCALENDAR