BEGIN:VCALENDAR
VERSION:2.0
PRODID:-//Agana Shopping Center - ECPv4.9.5//NONSGML v1.0//EN
CALSCALE:GREGORIAN
METHOD:PUBLISH
X-WR-CALNAME:Agana Shopping Center
X-ORIGINAL-URL:https://aganacenter.com
X-WR-CALDESC:Events for Agana Shopping Center
BEGIN:VTIMEZONE
TZID:"Pacific/Guam"
BEGIN:STANDARD
TZOFFSETFROM:+1000
TZOFFSETTO:+1000
TZNAME:ChST
DTSTART:20190101T000000
END:STANDARD
END:VTIMEZONE
BEGIN:VEVENT
DTSTART;VALUE=DATE:20190719
DTEND;VALUE=DATE:20190722
DTSTAMP:20260419T182358
CREATED:20190712T071417Z
LAST-MODIFIED:20190712T071417Z
UID:2604-1563494400-1563753599@aganacenter.com
SUMMARY:2019 Liberation Day Sale
DESCRIPTION:\n\n\n\n	StorePromotion\n\n\n\n\n	A-One Shoe Store- 15% off all regular priced footwears\n- 20% off all regular priced bags and accessories\n\n\n	Esprit- up to 60% off sale!\n\n\n	Jean's Warehouse- Sidewalk Sale (July 19-21)\n- Liberation Friday Sale: 30% off entire purchase (July 19 ONLY) *Must follow @jeanswarehouseguam on instagram & show IG post\n\n\n	IT&E- $75 Unlimited Plan - Unlimited 4G LTE data with any iPhone\n\n\n	Playport- $75 off SHHH Private Party (50% deposit must be made by 7/21/19. Additional $10 off for FULL cash payment. Schedule party within one year from booking date. No refunds.)\n- $19. 44 Beverage Card ($25 regular priced)\n*card is valid for FIVE orders of 16-20oz beverages. This sale price makes each drink only $3.89 (up to 35% savings per drink).  \n\n\n	Time Circle- 25% off on watches\n- 50% off on selected items\n\n\n	Vitamin World- Summer Hot Buy Sale Save 65% off (select items)\n- VW BOGO 50% Mix & Match (all items NOT in Summer Blowout sale)\n- ALL PE BOGO 50% Mix & Match\n- Diet BOGO 50% Mix & Match (select items)\n- Herbs & Superfoods BOGO 50% Mix & Match (select items)\n- Cleansing & Digestion BOGO 50% Mix & Match (select items)\n\n\n	Wendys (from July 19 - 22)- 75¢ on Medium sized fountain drink or sweet tea\n\n\n	AGANA MARKETPLACE \n\n\n	New Memories- 10% off discount on $100 or more purchases\n\n\n\n\n
URL:https://aganacenter.com/event/2019-liberation-day-sale
CATEGORIES:Promotion
ATTACH;FMTTYPE=image/jpeg:https://aganacenter.com/wp-content/uploads/2019/07/Option-2.jpg
END:VEVENT
END:VCALENDAR